BEGIN:VCALENDAR
VERSION:2.0
PRODID:-//Plone.org//NONSGML plone.app.event//EN
X-WR-TIMEZONE:America/Maceio
BEGIN:VEVENT
SUMMARY:SEMINÁRIO DE PESQUISA - Mestrado 2025
DTSTART;TZID=America/Maceio:20251110T140000
DTEND;TZID=America/Maceio:20251112T160000
DTSTAMP:20260420T115229Z
UID:cd19c8f766b04389ba133539f988765e@fsso.ufal.br
CREATED:20251013T212911Z
LAST-MODIFIED:20251013T212920Z
URL:https://fsso.ufal.br/pos-graduacao/servico-social/institucional/evento
 s/seminario-de-pesquisa-mestrado-2025
END:VEVENT
BEGIN:VTIMEZONE
TZID:America/Maceio
X-LIC-LOCATION:America/Maceio
BEGIN:STANDARD
DTSTART:20020216T230000
TZNAME:-03
TZOFFSETFROM:-0200
TZOFFSETTO:-0300
END:STANDARD
END:VTIMEZONE
END:VCALENDAR
