BEGIN:VCALENDAR
VERSION:2.0
PRODID:-//Plone.org//NONSGML plone.app.event//EN
X-WR-TIMEZONE:America/Maceio
BEGIN:VEVENT
SUMMARY:Seminário de Pesquisa 2017
DTSTART;TZID=America/Maceio:20170216T083000
DTEND;TZID=America/Maceio:20170216T180000
DTSTAMP:20260420T045107Z
UID:66a72d24831e4c87a04c32f15f504baa@fsso.ufal.br
CREATED:20170214T152843Z
LAST-MODIFIED:20240514T201143Z
LOCATION:Sala de Multimeios da Faculdade de Serviço Social
URL:https://fsso.ufal.br/pos-graduacao/servico-social/institucional/evento
 s/arquivo/seminario-de-pesquisa-2017
END:VEVENT
BEGIN:VTIMEZONE
TZID:America/Maceio
X-LIC-LOCATION:America/Maceio
BEGIN:STANDARD
DTSTART:20020216T230000
TZNAME:-03
TZOFFSETFROM:-0200
TZOFFSETTO:-0300
END:STANDARD
END:VTIMEZONE
END:VCALENDAR
